BEGIN:VCALENDAR
VERSION:2.0
PRODID:-//WJJW - ECPv6.15.20//NONSGML v1.0//EN
CALSCALE:GREGORIAN
METHOD:PUBLISH
X-WR-CALNAME:WJJW
X-ORIGINAL-URL:https://www.wjjwradio.com
X-WR-CALDESC:Events for WJJW
REFRESH-INTERVAL;VALUE=DURATION:PT1H
X-Robots-Tag:noindex
X-PUBLISHED-TTL:PT1H
BEGIN:VTIMEZONE
TZID:UTC
BEGIN:STANDARD
TZOFFSETFROM:+0000
TZOFFSETTO:+0000
TZNAME:UTC
DTSTART:20180101T000000
END:STANDARD
END:VTIMEZONE
BEGIN:VEVENT
DTSTART;TZID=UTC:20231113T140000
DTEND;TZID=UTC:20231113T150000
DTSTAMP:20260423T154152
CREATED:20231027T201921Z
LAST-MODIFIED:20231030T182544Z
UID:995-1699884000-1699887600@www.wjjwradio.com
SUMMARY:MEETING
DESCRIPTION:WJJW Station 3rd Floor CC\n\n\nCalling all MCLA students currently a part of WJJW and all who are interested in the radio station to come to our meeting this Monday\, November 13th. From 2 pm-3 pm\, our E-Board will talk about upcoming events\, regular business\, training for new and interested people & more!! \n 
URL:https://www.wjjwradio.com/event/meeting/
END:VEVENT
BEGIN:VEVENT
DTSTART;TZID=UTC:20231016T140000
DTEND;TZID=UTC:20231016T150000
DTSTAMP:20260423T154152
CREATED:20230929T221628Z
LAST-MODIFIED:20231003T234804Z
UID:929-1697464800-1697468400@www.wjjwradio.com
SUMMARY:October Meeting
DESCRIPTION:Calling all MCLA students currently a part of WJJW and all who are interested in the radio station to come to our meeting this October 16th. From 2pm-3pm\, our E-Board will talk about upcoming events\, regular business\, training for new DJs\, etc. \nSee you all there!
URL:https://www.wjjwradio.com/event/october-meeting/
LOCATION:WJJW Station\, 3rd Floor CC
END:VEVENT
BEGIN:VEVENT
DTSTART;TZID=UTC:20230930T180000
DTEND;TZID=UTC:20230930T200000
DTSTAMP:20260423T154152
CREATED:20230929T221042Z
LAST-MODIFIED:20230929T222007Z
UID:926-1696096800-1696104000@www.wjjwradio.com
SUMMARY:Bowman Takeover
DESCRIPTION:Come visit us at Bowman Hall Takeover this weekend! There. you’ll be able to meet members of WJJW\, play trivia\, and sign up for your own radio slot. \n  \nWe are also hosting a logo design contest\, the winner’s work will be featured in this years merch!
URL:https://www.wjjwradio.com/event/bowman-takeover/
END:VEVENT
BEGIN:VEVENT
DTSTART;TZID=UTC:20191207T190000
DTEND;TZID=UTC:20191207T220000
DTSTAMP:20260423T154152
CREATED:20191202T071005Z
LAST-MODIFIED:20191202T071005Z
UID:586-1575745200-1575756000@www.wjjwradio.com
SUMMARY:LuxDeluxe\, Melanie Alanna Glen\, and Zac Rea @ Church St. Center Social Hall!
DESCRIPTION:
URL:https://www.wjjwradio.com/event/luxdeluxe-melanie-alanna-glen-and-zac-rea-church-st-center-social-hall/
LOCATION:Church St. Center Social Hall\, 16-50 Elmwood Ave\, North Adams\, 01247\, United States
END:VEVENT
BEGIN:VEVENT
DTSTART;TZID=UTC:20191205T190000
DTEND;TZID=UTC:20191205T210000
DTSTAMP:20260423T154152
CREATED:20191202T072025Z
LAST-MODIFIED:20191202T072025Z
UID:593-1575572400-1575579600@www.wjjwradio.com
SUMMARY:End of Semester Meeting
DESCRIPTION:Calling all current DJ’s\, the end of the semester is here\, and it’s time for our final meeting of the semester! Join us for some light refreshments as we discuss all things related to the station. If you’re not a current DJ but always wanted your own show\, this is a prime opportunity to get involved! \n  \n 
URL:https://www.wjjwradio.com/event/end-of-semester-meeting/
LOCATION:Campus Center Room 324B\, MA\, United States
END:VEVENT
END:VCALENDAR